BEGIN:VCALENDAR
VERSION:2.0
PRODID:-//AVTC Steinholz Scharten - ECPv6.15.13//NONSGML v1.0//EN
CALSCALE:GREGORIAN
METHOD:PUBLISH
X-WR-CALNAME:AVTC Steinholz Scharten
X-ORIGINAL-URL:https://tc-steinholz-scharten.at
X-WR-CALDESC:Veranstaltungen für AVTC Steinholz Scharten
REFRESH-INTERVAL;VALUE=DURATION:PT1H
X-Robots-Tag:noindex
X-PUBLISHED-TTL:PT1H
BEGIN:VTIMEZONE
TZID:UTC
BEGIN:STANDARD
TZOFFSETFROM:+0000
TZOFFSETTO:+0000
TZNAME:UTC
DTSTART:20210101T000000
END:STANDARD
END:VTIMEZONE
BEGIN:VEVENT
DTSTART;VALUE=DATE:20220811
DTEND;VALUE=DATE:20220816
DTSTAMP:20260424T160234
CREATED:20220329T161250Z
LAST-MODIFIED:20220329T161250Z
UID:802-1660176000-1660607999@tc-steinholz-scharten.at
SUMMARY:Vereinsmeisterschaft 2022 - Einzel
DESCRIPTION:
URL:https://tc-steinholz-scharten.at/event/vereinsmeisterschaft-2022-einzel/
CATEGORIES:Sport
ATTACH;FMTTYPE=image/jpeg:https://tc-steinholz-scharten.at/wp-content/uploads/2020/04/Turniersieger-scaled.jpg
ORGANIZER;CN="AVTC Steinholz Scharten":MAILTO:info@tc-steinholz-scharten.at
END:VEVENT
BEGIN:VEVENT
DTSTART;VALUE=DATE:20220827
DTEND;VALUE=DATE:20220828
DTSTAMP:20260424T160234
CREATED:20220329T160736Z
LAST-MODIFIED:20220329T161120Z
UID:795-1661558400-1661644799@tc-steinholz-scharten.at
SUMMARY:Meisterschaft - Beginn Jugend
DESCRIPTION:1. Runde für U10 / U14 / U18
URL:https://tc-steinholz-scharten.at/event/vereinsmeisterschaft-einzel-2022/
CATEGORIES:Sport
ORGANIZER;CN="AVTC Steinholz Scharten":MAILTO:info@tc-steinholz-scharten.at
END:VEVENT
END:VCALENDAR