BEGIN:VCALENDAR
VERSION:2.0
PRODID:-//AVTC Steinholz Scharten - ECPv6.15.13//NONSGML v1.0//EN
CALSCALE:GREGORIAN
METHOD:PUBLISH
X-ORIGINAL-URL:https://tc-steinholz-scharten.at
X-WR-CALDESC:Veranstaltungen für AVTC Steinholz Scharten
REFRESH-INTERVAL;VALUE=DURATION:PT1H
X-Robots-Tag:noindex
X-PUBLISHED-TTL:PT1H
BEGIN:VTIMEZONE
TZID:UTC
BEGIN:STANDARD
TZOFFSETFROM:+0000
TZOFFSETTO:+0000
TZNAME:UTC
DTSTART:20220101T000000
END:STANDARD
END:VTIMEZONE
BEGIN:VEVENT
DTSTART;VALUE=DATE:20230428
DTEND;VALUE=DATE:20230502
DTSTAMP:20260424T020042
CREATED:20230324T111515Z
LAST-MODIFIED:20230324T111638Z
UID:900-1682640000-1682985599@tc-steinholz-scharten.at
SUMMARY:Vereinsmeisterschaft 2023 - Doppel
DESCRIPTION:
URL:https://tc-steinholz-scharten.at/event/vereinsmeisterschaft-2023-doppel/
CATEGORIES:Sport
ATTACH;FMTTYPE=image/jpeg:https://tc-steinholz-scharten.at/wp-content/uploads/2020/04/Turniersieger-scaled.jpg
ORGANIZER;CN="AVTC Steinholz Scharten":MAILTO:info@tc-steinholz-scharten.at
END:VEVENT
BEGIN:VEVENT
DTSTART;VALUE=DATE:20230429
DTEND;VALUE=DATE:20230502
DTSTAMP:20260424T020042
CREATED:20230324T112028Z
LAST-MODIFIED:20230324T112944Z
UID:902-1682726400-1682985599@tc-steinholz-scharten.at
SUMMARY:VOGL-Tiebreak-Masters Herren
DESCRIPTION:
URL:https://tc-steinholz-scharten.at/event/vogl-tiebreak-masters-herren/
CATEGORIES:Sport
ATTACH;FMTTYPE=image/jpeg:https://tc-steinholz-scharten.at/wp-content/uploads/2020/04/Turniersieger-scaled.jpg
ORGANIZER;CN="AVTC Steinholz Scharten":MAILTO:info@tc-steinholz-scharten.at
END:VEVENT
END:VCALENDAR