BEGIN:VCALENDAR
VERSION:2.0
PRODID:-//AVTC Steinholz Scharten - ECPv6.15.13//NONSGML v1.0//EN
CALSCALE:GREGORIAN
METHOD:PUBLISH
X-WR-CALNAME:AVTC Steinholz Scharten
X-ORIGINAL-URL:https://tc-steinholz-scharten.at
X-WR-CALDESC:Veranstaltungen für AVTC Steinholz Scharten
REFRESH-INTERVAL;VALUE=DURATION:PT1H
X-Robots-Tag:noindex
X-PUBLISHED-TTL:PT1H
BEGIN:VTIMEZONE
TZID:UTC
BEGIN:STANDARD
TZOFFSETFROM:+0000
TZOFFSETTO:+0000
TZNAME:UTC
DTSTART:20230101T000000
END:STANDARD
END:VTIMEZONE
BEGIN:VEVENT
DTSTART;VALUE=DATE:20240426
DTEND;VALUE=DATE:20240429
DTSTAMP:20260421T041803
CREATED:20240415T101639Z
LAST-MODIFIED:20240415T104035Z
UID:926-1714089600-1714348799@tc-steinholz-scharten.at
SUMMARY:Vereinsmeisterschaft 2024 - Doppel
DESCRIPTION:
URL:https://tc-steinholz-scharten.at/event/vereinsmeisterschaft-2024-doppel/
CATEGORIES:Sport
ATTACH;FMTTYPE=image/jpeg:https://tc-steinholz-scharten.at/wp-content/uploads/2020/04/Turniersieger-scaled.jpg
ORGANIZER;CN="AVTC Steinholz Scharten":MAILTO:info@tc-steinholz-scharten.at
END:VEVENT
END:VCALENDAR