BEGIN:VCALENDAR
VERSION:2.0
PRODID:-//AVTC Steinholz Scharten - ECPv6.15.13//NONSGML v1.0//EN
CALSCALE:GREGORIAN
METHOD:PUBLISH
X-ORIGINAL-URL:https://tc-steinholz-scharten.at
X-WR-CALDESC:Veranstaltungen für AVTC Steinholz Scharten
REFRESH-INTERVAL;VALUE=DURATION:PT1H
X-Robots-Tag:noindex
X-PUBLISHED-TTL:PT1H
BEGIN:VTIMEZONE
TZID:UTC
BEGIN:STANDARD
TZOFFSETFROM:+0000
TZOFFSETTO:+0000
TZNAME:UTC
DTSTART:20240101T000000
END:STANDARD
END:VTIMEZONE
BEGIN:VEVENT
DTSTART;VALUE=DATE:20250812
DTEND;VALUE=DATE:20250818
DTSTAMP:20260420T015816
CREATED:20250418T103043Z
LAST-MODIFIED:20250418T103043Z
UID:1033-1754956800-1755475199@tc-steinholz-scharten.at
SUMMARY:Vereinsmeisterschaft 2025
DESCRIPTION:
URL:https://tc-steinholz-scharten.at/event/vereinsmeisterschaft-2025/
LOCATION:AVTC Steinholz Scharten\, Steinholz 18b\, Fraham\, 4075\, Österreich
CATEGORIES:Sport
ATTACH;FMTTYPE=image/jpeg:https://tc-steinholz-scharten.at/wp-content/uploads/2020/04/Turniersieger-scaled.jpg
ORGANIZER;CN="AVTC Steinholz Scharten":MAILTO:info@tc-steinholz-scharten.at
END:VEVENT
END:VCALENDAR