BEGIN:VCALENDAR
VERSION:2.0
PRODID:-//AVTC Steinholz Scharten - ECPv6.15.13//NONSGML v1.0//EN
CALSCALE:GREGORIAN
METHOD:PUBLISH
X-WR-CALNAME:AVTC Steinholz Scharten
X-ORIGINAL-URL:https://tc-steinholz-scharten.at
X-WR-CALDESC:Veranstaltungen für AVTC Steinholz Scharten
REFRESH-INTERVAL;VALUE=DURATION:PT1H
X-Robots-Tag:noindex
X-PUBLISHED-TTL:PT1H
BEGIN:VTIMEZONE
TZID:UTC
BEGIN:STANDARD
TZOFFSETFROM:+0000
TZOFFSETTO:+0000
TZNAME:UTC
DTSTART:20230101T000000
END:STANDARD
END:VTIMEZONE
BEGIN:VEVENT
DTSTART;VALUE=DATE:20240428
DTEND;VALUE=DATE:20240502
DTSTAMP:20260421T064959
CREATED:20240415T102736Z
LAST-MODIFIED:20240415T102918Z
UID:938-1714262400-1714607999@tc-steinholz-scharten.at
SUMMARY:Erwachsenenkurs 2024 - Anfänger und Wiedereinsteiger
DESCRIPTION: \n\nFür alle motivierten Tennis Einsteiger und fortgeschrittenen Wiedereinsteiger  findet ab Ende April ein Auffrischungskurs statt.\nDie voraussichtlichen Termine sind: 28.4. 12.5. 19.5. 26.5. Für Fragen zum Kurs oder Anmeldung unter +43 664 5515358 Sportliche Grüße Lukas Reisinger
URL:https://tc-steinholz-scharten.at/event/erwachsenenkurs-2024-anfaenger-und-wiedereinsteiger/
CATEGORIES:Sport
ATTACH;FMTTYPE=image/jpeg:https://tc-steinholz-scharten.at/wp-content/uploads/2024/04/Kurs_Lukas.jpg
ORGANIZER;CN="AVTC Steinholz Scharten":MAILTO:info@tc-steinholz-scharten.at
END:VEVENT
END:VCALENDAR