BEGIN:VCALENDAR
VERSION:2.0
PRODID:-//AVTC Steinholz Scharten - ECPv6.15.13//NONSGML v1.0//EN
CALSCALE:GREGORIAN
METHOD:PUBLISH
X-ORIGINAL-URL:https://tc-steinholz-scharten.at
X-WR-CALDESC:Veranstaltungen für AVTC Steinholz Scharten
REFRESH-INTERVAL;VALUE=DURATION:PT1H
X-Robots-Tag:noindex
X-PUBLISHED-TTL:PT1H
BEGIN:VTIMEZONE
TZID:UTC
BEGIN:STANDARD
TZOFFSETFROM:+0000
TZOFFSETTO:+0000
TZNAME:UTC
DTSTART:20250101T000000
END:STANDARD
END:VTIMEZONE
BEGIN:VEVENT
DTSTART;VALUE=DATE:20260504
DTEND;VALUE=DATE:20260922
DTSTAMP:20260419T170617
CREATED:20250418T103346Z
LAST-MODIFIED:20260331T121341Z
UID:1035-1777852800-1790035199@tc-steinholz-scharten.at
SUMMARY:Kindertraining 2026
DESCRIPTION:Start 04.05.2026
URL:https://tc-steinholz-scharten.at/event/kindertraining-2026/
LOCATION:AVTC Steinholz Scharten\, Steinholz 18b\, Fraham\, 4075\, Österreich
CATEGORIES:Sport
ATTACH;FMTTYPE=application/pdf:https://tc-steinholz-scharten.at/wp-content/uploads/2025/04/Informationsschreiben-AVTC-Steinholz-Scharten_2026.pdf
ORGANIZER;CN="AVTC Steinholz Scharten":MAILTO:info@tc-steinholz-scharten.at
END:VEVENT
END:VCALENDAR